Workbook

Sheet 1. Доходы бюджета
F1: Утв. приказом Минфина РФ
F2: от 28 декабря 2010 г. № 191н
F3: (в ред. от 19 декабря 2014 г.)
A5: ОТЧЕТ ОБ ИСПОЛНЕНИИ БЮДЖЕТА | F5: КОДЫ
E6: Форма по ОКУД | F6: 0503117
A7: на 1 августа 2022 г. | E7: Дата | F7: 01.08.2022
A8: Наименование | E8: по ОКПО | F8: 44098922
A9: финансового органа: | B9: Управление финансов администрации города Байконур | E9: Глава по БК
A10: Наименование публично-правового образования: | B10: Внебюджетные фонды | E10: по ОКТМО | F10: 55000000
A11: Периодичность: месячная, квартальная, годовая
A12: Единица измерения: руб. | E12: по ОКЕИ | F12: 383
A14: 1. ДОХОДЫ БЮДЖЕТА
A16: Наименование показателя | B16: Код строки | C16: Код дохода по бюджетной классификации | D16: Утверждённые бюджетные назначения | E16: Исполнено | F16: Неисполненные назначения
A18: 1 | B18: 2 | C18: 3 | D18: 4 | E18: 5 | F18: 6
A19: Доходы бюджета - всего в том числе: | B19: 010 | C19: x | D19: =SUM(D20:D162) -> 3535941650 | E19: =SUM(E20:E162) -> 2.0158315e+09 | F19: =D19-E19 -> 1.5201102e+09
A20: Налог на прибыль организаций (за исключением консолидированных групп налогоплательщиков), зачисляемый в федеральный бюджет | B20: 010 | C20: 00010101011010000110 | D20: 0 | E20: -0.35 | F20: 0
A21: Налог на прибыль организаций (за исключением консолидированных групп налогоплательщиков), зачисляемый в бюджеты субъектов Российской Федерации | B21: 010 | C21: 00010101012020000110 | D21: 145229000 | E21: 89396302 | F21: 55832698
A22: Налог на доходы физических лиц с доходов, источником которых является налоговый агент, за исключением доходов, в отношении которых исчисление и уплата налога осуществляются в соответствии со статьями 227, 2271 и 228 Налогового кодекса Российской Федерации | B22: 010 | C22: 00010102010010000110 | D22: 1273402000 | E22: 6.5665632e+08 | F22: 6.1674568e+08
A23: Налог на доходы физических лиц с доходов, полученных от осуществления деятельности физическими лицами, зарегистрированными в качестве индивидуальных предпринимателей, нотариусов, занимающихся частной практикой, адвокатов, учредивших адвокатские кабинеты, и других лиц, занимающихся частной практикой в соответствии со статьей 227 Налогового кодекса Российской Федерации | B23: 010 | C23: 00010102020010000110 | D23: 600000 | E23: 50868.68 | F23: 549131.32
A24: Налог на доходы физических лиц с доходов, полученных физическими лицами в соответствии со статьей 228 Налогового кодекса Российской Федерации | B24: 010 | C24: 00010102030010000110 | D24: 1300000 | E24: 1249094.5 | F24: 50905.53
A25: Налог на добавленную стоимость на товары (работы, услуги), реализуемые на территории Российской Федерации | B25: 010 | C25: 00010301000010000110 | D25: 188618000 | E25: 55256165 | F25: 1.3336184e+08
A26: Доходы от уплаты акцизов на алкогольную продукцию с объемной долей этилового спирта свыше 9 процентов (за исключением пива, вин, фруктовых вин, игристых вин (шампанских), винных напитков, изготавливаемых без добавления ректификованного этилового спирта, произведенного из пищевого сырья, и (или) спиртованных виноградного или иного фруктового сусла, и (или) винного дистиллята, и (или) фруктового дистиллята), подлежащие распределению в бюджеты субъектов Российской Федерации (по нормативам, установленным Федеральным законом о федеральном бюджете в целях компенсации снижения доходов бюджетов субъектов Российской Федерации в связи с исключением движимого имущества из объектов налогообложения по налогу на имущество организаций) | B26: 010 | C26: 00010302143010000110 | D26: 48843100 | E26: 28097464 | F26: 20745636
A27: Доходы от уплаты акцизов на дизельное топливо, подлежащие распределению между бюджетами субъектов Российской Федерации и местными бюджетами с учетом установленных дифференцированных нормативов отчислений в местные бюджеты (по нормативам, установленным Федеральным законом о федеральном бюджете в целях формирования дорожных фондов субъектов Российской Федерации) | B27: 010 | C27: 00010302231010000110 | D27: 31039780 | E27: 21189407 | F27: 9850373.1
A28: Доходы от уплаты акцизов на моторные масла для дизельных и (или) карбюраторных (инжекторных) двигателей, подлежащие распределению между бюджетами субъектов Российской Федерации и местными бюджетами с учетом установленных дифференцированных нормативов отчислений в местные бюджеты (по нормативам, установленным Федеральным законом о федеральном бюджете в целях формирования дорожных фондов субъектов Российской Федерации) | B28: 010 | C28: 00010302241010000110 | D28: 171820 | E28: 105765.16 | F28: 66054.84
A29: Доходы от уплаты акцизов на автомобильный бензин, подлежащие распределению между бюджетами субъектов Российской Федерации и местными бюджетами с учетом установленных дифференцированных нормативов отчислений в местные бюджеты (по нормативам, установленным Федеральным законом о федеральном бюджете в целях формирования дорожных фондов субъектов Российской Федерации) | B29: 010 | C29: 00010302251010000110 | D29: 41332850 | E29: 24478351 | F29: 16854499
A30: Доходы от уплаты акцизов на прямогонный бензин, подлежащие распределению между бюджетами субъектов Российской Федерации и местными бюджетами с учетом установленных дифференцированных нормативов отчислений в местные бюджеты (по нормативам, установленным Федеральным законом о федеральном бюджете в целях формирования дорожных фондов субъектов Российской Федерации) | B30: 010 | C30: 00010302261010000110 | D30: -3892230 | E30: -1644861.2 | F30: 0
A31: Налог на добавленную стоимость на товары, ввозимые на территорию Российской Федерации | B31: 010 | C31: 00010401000010000110 | D31: 129659000 | E31: 63849384 | F31: 65809616
A32: Акцизы по подакцизным товарам (продукции), ввозимым на территорию Российской Федерации | B32: 010 | C32: 00010402000010000110 | D32: 0 | E32: 0 | F32: 0
A33: Акцизы на этиловый спирт из пищевого сырья (дистилляты винный, виноградный, плодовый, коньячный, кальвадосный, висковый), ввозимый на территорию Российской Федерации | B33: 010 | C33: 00010402012010000110 | D33: 295000 | E33: 284.58 | F33: =D33-E33 -> 294715.42
A34: Акцизы на спиртосодержащую продукцию, ввозимую на территорию Российской Федерации | B34: 010 | C34: 00010402020010000110 | D34: 0 | E34: -13723.14 | F34: 0
A35: Акцизы на автомобильный бензин, ввозимый на территорию Российской Федерации | B35: 010 | C35: 00010402040010000110 | D35: 0 | E35: 182192.38 | F35: 0
A36: Акцизы на моторные масла для дизельных и (или) карбюраторных (инжекторных) двигателей, ввозимые на территорию Российской Федерации | B36: 010 | C36: 00010402080010000110 | D36: 0 | E36: 2 | F36: 0
A37: Акцизы на пиво, ввозимое на территорию Российской Федерации | B37: 010 | C37: 00010402100010000110 | D37: 0 | E37: 30410.99 | F37: 0
A38: Налог, взимаемый с налогоплательщиков, выбравших в качестве объекта налогобложения доходы | B38: 010 | C38: 00010501011010000110 | D38: 26181000 | E38: 19300332 | F38: 6880668.2
A39: Налог, взимаемый с налогоплательщиков, выбравших в качестве объекта налогобложения доходы (за налоговые периоды, истекшие до 1 января 2011 года) | B39: 010 | C39: 00010501012010000110 | D39: 0 | E39: -0.11 | F39: 0
A40: Налог, взимаемый с налогоплательщиков, выбравших в качестве объекта налогобложения доходы, уменьшенные на величину расходов | B40: 010 | C40: 00010501021010000110 | D40: 34598000 | E40: 26658171 | F40: 7939829.5
A41: Единый налог на вменённый доход для отдельных видов деятельности | B41: 010 | C41: 00010502010020000110 | D41: 0 | E41: 315947.78 | F41: 0
A42: Единый налог на вменённый доход для отдельных видов деятельности за налоговые периоды, истекшие до 1 января 2011 года) | B42: 010 | C42: 00010502020020000110 | D42: 0 | E42: -233.72 | F42: 0
A43: Налог, взимаемый в связи с применением патентной системы налогообложения, зачисляемый в бюджеты городских округов | B43: 010 | C43: 00010504010020000110 | D43: 5518000 | E43: 2668773.9 | F43: 2849226.1
A44: Налог, взимаемый в связи с применением патентной системы налогообложения, зачисляемый в бюджеты городских округов с внутригородским делением | B44: 010 | C44: 00010504040020000110 | D44: 0 | E44: -74831 | F44: 0
...

Sheet 2. Расходы бюджета
F1: Форма 0503117 с.2
A2: 2. РАСХОДЫ БЮДЖЕТА
A4: Наименование показателя | B4: Код строки | C4: Код расхода по бюджетной классификации | D4: Утверждённые бюджетные назначения | E4: Исполнено | F4: Неисполненные назначения
A6: 1 | B6: 2 | C6: 3 | D6: 4 | E6: 5 | F6: 6
A7: Расходы бюджета - всего в том числе: | B7: 200 | C7: x | D7: =SUM(D8:D182) -> 3.7468118e+09 | E7: =SUM(E8:E182) -> 2.1449118e+09 | F7: =D7-E7 -> 1.6019001e+09
A8: Фонд оплаты труда государственных (муниципальных) органов | B8: 200 | C8: 00001020000000000121 | D8: 3359000 | E8: 2594512 | F8: 764487.95
A9: Иные выплаты персоналу государственных (муниципальных) органов, за исключением фонда оплаты труда | B9: 200 | C9: 00001020000000000122 | D9: 584000 | E9: 77150.75 | F9: 506849.25
A10: Взносы по обязательному социальному страхованию на выплаты денежного содержания и иные выплаты работникам государственных (муниципальных) органов | B10: 200 | C10: 00001020000000000129 | D10: 754200 | E10: 580794.57 | F10: 173405.43
A11: Фонд оплаты труда государственных (муниципальных) органов | B11: 200 | C11: 00001040000000000121 | D11: 197556390 | E11: 1.1255809e+08 | F11: 84998299
A12: Иные выплаты персоналу государственных (муниципальных) органов, за исключением фонда оплаты труда | B12: 200 | C12: 00001040000000000122 | D12: 2034400 | E12: 599674.66 | F12: 1434725.3
A13: Взносы по обязательному социальному страхованию на выплаты денежного содержания и иные выплаты работникам государственных (муниципальных) органов | B13: 200 | C13: 00001040000000000129 | D13: 51583984 | E13: 36750107 | F13: 14833878
A14: Закупка товаров, работ, услуг в сфере информационно-коммуникационных технологий | B14: 200 | C14: 00001040000000000242 | D14: 7142700 | E14: 2755343.5 | F14: 4387356.5
A15: Прочая закупка товаров, работ и услуг | B15: 200 | C15: 00001040000000000244 | D15: 20956100 | E15: 13621042 | F15: 7335058.1
A16: Закупка энергетических ресурсов | B16: 200 | C16: 00001040000000000247 | D16: 16675404 | E16: 10640197 | F16: 6035207.1
A17: Уплата прочих налогов, сборов | B17: 200 | C17: 00001040000000000852 | D17: 204300 | E17: 137759.75 | F17: 66540.25
A18: Уплата иных платежей | B18: 200 | C18: 00001040000000000853 | D18: 32800 | E18: 12335.2 | F18: 20464.8
A19: Фонд оплаты труда государственных (муниципальных) органов | B19: 200 | C19: 00001060000000000121 | D19: 46173410 | E19: 25720297 | F19: 20453113
... A182: Субсидии бюджетным учреждениям на финансовое обеспечение государственного (муниципального) задания на оказание государственных (муниципальных) услуг (выполнение работ) | B182: 200 | C182: 00012020000000000611 | D182: 8852700 | E182: 4300703 | F182: 4551997
A183: Результат исполнения бюджета (дефицит / профицит) | B183: 450 | C183: x | D183: ='1. Доходы бюджета'!D19-'2. Расходы бюджета'!D7 -> -2.108702e+08 | E183: ='1. Доходы бюджета'!E19-'2. Расходы бюджета'!E7 -> -1.2908029e+08 | F183: 0

Sheet 3. Источники финансирования
F1: Форма 0503117 с.3
A2: 3. ИСТОЧНИКИ ФИНАНСИРОВАНИЯ ДЕФИЦИТА БЮДЖЕТА
A4: Наименование показателя | B4: Код строки | C4: Код источника финансирования дефицита бюджета по бюджетной классификации | D4: Утверждённые бюджетные назначения | E4: Исполнено | F4: Неисполненные назначения
A6: 1 | B6: 2 | C6: 3 | D6: 4 | E6: 5 | F6: 6
A7: Источники финансирования дефицита бюджета - всего | B7: 500 | C7: x | D7: =D10 -> 2.108702e+08 | E7: =E10 -> 1.2908029e+08 | F7: =D7-E7 -> 81789912
A8: в том числе: источники внутреннего финансирования бюджета из них: | B8: 520 | C8: x | D8: 0 | E8: 0 | F8: 0
A9: источники внешнего финансирования бюджета из них: | B9: 620 | C9: x | D9: 0 | E9: 0 | F9: 0
A10: Изменение остатков средств | B10: 700 | D10: =D11+D13 -> 2.108702e+08 | E10: =E11+E13 -> 1.2908029e+08 | F10: х
A11: увеличение остатков средств, всего | B11: 710 | D11: =D12 -> -3535941650 | E11: =E12 -> -2.0158315e+09 | F11: х
A12: Увеличение прочих остатков денежных средств ГО | B12: 710 | C12: 00001050201040000510 | D12: =-'1. Доходы бюджета'!D19 -> -3535941650 | E12: =-'1. Доходы бюджета'!E19 -> -2.0158315e+09 | F12: х
A13: уменьшение остатков средств, всего | B13: 720 | D13: =D14 -> 3.7468118e+09 | E13: =E14 -> 2.1449118e+09 | F13: х
A14: Уменьшение прочих остатков денежных средств ГО | B14: 720 | C14: 00001050201040000610 | D14: ='2. Расходы бюджета'!D7 -> 3.7468118e+09 | E14: ='2. Расходы бюджета'!E7 -> 2.1449118e+09 | F14: х
A16: Начальник Управления финансов администрации города Байконур | F16: А.Г. Бобрышев
A17: И.о. начальника отдела учета и отчетности Управления финансов администрации города Байконур | F17: Е.А. Ибраева
